BEGIN:VCALENDAR
VERSION:2.0
PRODID:-//+++ Freiwillige Feuerwehr Reisensburg +++ - ECPv6.15.20//NONSGML v1.0//EN
CALSCALE:GREGORIAN
METHOD:PUBLISH
X-ORIGINAL-URL:https://ff-reisensburg.de
X-WR-CALDESC:Veranstaltungen für +++ Freiwillige Feuerwehr Reisensburg +++
REFRESH-INTERVAL;VALUE=DURATION:PT1H
X-Robots-Tag:noindex
X-PUBLISHED-TTL:PT1H
BEGIN:VTIMEZONE
TZID:Europe/Berlin
BEGIN:DAYLIGHT
TZOFFSETFROM:+0100
TZOFFSETTO:+0200
TZNAME:CEST
DTSTART:20250330T010000
END:DAYLIGHT
BEGIN:STANDARD
TZOFFSETFROM:+0200
TZOFFSETTO:+0100
TZNAME:CET
DTSTART:20251026T010000
END:STANDARD
BEGIN:DAYLIGHT
TZOFFSETFROM:+0100
TZOFFSETTO:+0200
TZNAME:CEST
DTSTART:20260329T010000
END:DAYLIGHT
BEGIN:STANDARD
TZOFFSETFROM:+0200
TZOFFSETTO:+0100
TZNAME:CET
DTSTART:20261025T010000
END:STANDARD
BEGIN:DAYLIGHT
TZOFFSETFROM:+0100
TZOFFSETTO:+0200
TZNAME:CEST
DTSTART:20270328T010000
END:DAYLIGHT
BEGIN:STANDARD
TZOFFSETFROM:+0200
TZOFFSETTO:+0100
TZNAME:CET
DTSTART:20271031T010000
END:STANDARD
END:VTIMEZONE
BEGIN:VEVENT
DTSTART;TZID=Europe/Berlin:20260210T200000
DTEND;TZID=Europe/Berlin:20260210T220000
DTSTAMP:20260423T133355
CREATED:20260125T101055Z
LAST-MODIFIED:20260125T101055Z
UID:3513-1770753600-1770760800@ff-reisensburg.de
SUMMARY:Gesamte Wehr - Übung
DESCRIPTION:
URL:https://ff-reisensburg.de/event/gesamte-wehr-uebung-5/
LOCATION:Feuerwehrhaus Reisensburg\, Kirchstr. 8\, Günzburg\, BY\, 89312\, Deutschland
CATEGORIES:Aktive Wehr
END:VEVENT
BEGIN:VEVENT
DTSTART;TZID=Europe/Berlin:20260214T200000
DTEND;TZID=Europe/Berlin:20260214T233000
DTSTAMP:20260423T133355
CREATED:20260113T161711Z
LAST-MODIFIED:20260113T161711Z
UID:3491-1771099200-1771111800@ff-reisensburg.de
SUMMARY:Feuerwehrball Einsatz am Strand - Alarm am Ballermann
DESCRIPTION:
URL:https://ff-reisensburg.de/event/feuerwehrball-einsatz-am-strand-alarm-am-ballermann/
LOCATION:Herrenwaldhalle\, Johann-Sauter-Straße 5\, Reisensburg\, 89312\, Deutschland
ORGANIZER;CN="FF Reisensburg":MAILTO:info@ff-reisensburg.de
END:VEVENT
END:VCALENDAR