BEGIN:VCALENDAR
VERSION:2.0
PRODID:-//+++ Freiwillige Feuerwehr Reisensburg +++ - ECPv6.15.20//NONSGML v1.0//EN
CALSCALE:GREGORIAN
METHOD:PUBLISH
X-WR-CALNAME:+++ Freiwillige Feuerwehr Reisensburg +++
X-ORIGINAL-URL:https://ff-reisensburg.de
X-WR-CALDESC:Veranstaltungen für +++ Freiwillige Feuerwehr Reisensburg +++
REFRESH-INTERVAL;VALUE=DURATION:PT1H
X-Robots-Tag:noindex
X-PUBLISHED-TTL:PT1H
BEGIN:VTIMEZONE
TZID:Europe/Berlin
BEGIN:DAYLIGHT
TZOFFSETFROM:+0100
TZOFFSETTO:+0200
TZNAME:CEST
DTSTART:20250330T010000
END:DAYLIGHT
BEGIN:STANDARD
TZOFFSETFROM:+0200
TZOFFSETTO:+0100
TZNAME:CET
DTSTART:20251026T010000
END:STANDARD
BEGIN:DAYLIGHT
TZOFFSETFROM:+0100
TZOFFSETTO:+0200
TZNAME:CEST
DTSTART:20260329T010000
END:DAYLIGHT
BEGIN:STANDARD
TZOFFSETFROM:+0200
TZOFFSETTO:+0100
TZNAME:CET
DTSTART:20261025T010000
END:STANDARD
BEGIN:DAYLIGHT
TZOFFSETFROM:+0100
TZOFFSETTO:+0200
TZNAME:CEST
DTSTART:20270328T010000
END:DAYLIGHT
BEGIN:STANDARD
TZOFFSETFROM:+0200
TZOFFSETTO:+0100
TZNAME:CET
DTSTART:20271031T010000
END:STANDARD
END:VTIMEZONE
BEGIN:VEVENT
DTSTART;TZID=Europe/Berlin:20260113T200000
DTEND;TZID=Europe/Berlin:20260113T220000
DTSTAMP:20260423T151157
CREATED:20260110T174302Z
LAST-MODIFIED:20260110T174302Z
UID:3488-1768334400-1768341600@ff-reisensburg.de
SUMMARY:Übung Gesamte Wehr
DESCRIPTION:
URL:https://ff-reisensburg.de/event/uebung-gesamte-wehr-5/
LOCATION:Feuerwehrhaus Reisensburg\, Kirchstr. 8\, Günzburg\, BY\, 89312\, Deutschland
ORGANIZER;CN="FF Reisensburg":MAILTO:info@ff-reisensburg.de
END:VEVENT
BEGIN:VEVENT
DTSTART;TZID=Europe/Berlin:20260127T193000
DTEND;TZID=Europe/Berlin:20260127T213000
DTSTAMP:20260423T151157
CREATED:20260125T100820Z
LAST-MODIFIED:20260125T100820Z
UID:3508-1769542200-1769549400@ff-reisensburg.de
SUMMARY:Übung-Gruppenführer
DESCRIPTION:
URL:https://ff-reisensburg.de/event/uebung-gruppenfuehrer/
LOCATION:Feuerwehrhaus Reisensburg\, Kirchstr. 8\, Günzburg\, BY\, 89312\, Deutschland
CATEGORIES:Aktive Wehr
END:VEVENT
BEGIN:VEVENT
DTSTART;TZID=Europe/Berlin:20260130T220000
DTEND;TZID=Europe/Berlin:20260130T233000
DTSTAMP:20260423T151157
CREATED:20260125T100939Z
LAST-MODIFIED:20260125T100939Z
UID:3511-1769810400-1769815800@ff-reisensburg.de
SUMMARY:MäBa Auftritt - Waldstetten
DESCRIPTION:
URL:https://ff-reisensburg.de/event/maeba-auftritt-waldstetten/
LOCATION:Waldstetten
CATEGORIES:Aktive Wehr
END:VEVENT
END:VCALENDAR