BEGIN:VCALENDAR
VERSION:2.0
PRODID:-//+++ Freiwillige Feuerwehr Reisensburg +++ - ECPv6.15.20//NONSGML v1.0//EN
CALSCALE:GREGORIAN
METHOD:PUBLISH
X-ORIGINAL-URL:https://ff-reisensburg.de
X-WR-CALDESC:Veranstaltungen für +++ Freiwillige Feuerwehr Reisensburg +++
REFRESH-INTERVAL;VALUE=DURATION:PT1H
X-Robots-Tag:noindex
X-PUBLISHED-TTL:PT1H
BEGIN:VTIMEZONE
TZID:Europe/Berlin
BEGIN:DAYLIGHT
TZOFFSETFROM:+0100
TZOFFSETTO:+0200
TZNAME:CEST
DTSTART:20240331T010000
END:DAYLIGHT
BEGIN:STANDARD
TZOFFSETFROM:+0200
TZOFFSETTO:+0100
TZNAME:CET
DTSTART:20241027T010000
END:STANDARD
BEGIN:DAYLIGHT
TZOFFSETFROM:+0100
TZOFFSETTO:+0200
TZNAME:CEST
DTSTART:20250330T010000
END:DAYLIGHT
BEGIN:STANDARD
TZOFFSETFROM:+0200
TZOFFSETTO:+0100
TZNAME:CET
DTSTART:20251026T010000
END:STANDARD
BEGIN:DAYLIGHT
TZOFFSETFROM:+0100
TZOFFSETTO:+0200
TZNAME:CEST
DTSTART:20260329T010000
END:DAYLIGHT
BEGIN:STANDARD
TZOFFSETFROM:+0200
TZOFFSETTO:+0100
TZNAME:CET
DTSTART:20261025T010000
END:STANDARD
END:VTIMEZONE
BEGIN:VEVENT
DTSTART;TZID=Europe/Berlin:20250723T171500
DTEND;TZID=Europe/Berlin:20250723T184500
DTSTAMP:20260425T213918
CREATED:20250427T194233Z
LAST-MODIFIED:20250427T194233Z
UID:3255-1753290900-1753296300@ff-reisensburg.de
SUMMARY:Sommerfest
DESCRIPTION:
URL:https://ff-reisensburg.de/event/sommerfest-2/
LOCATION:BY
CATEGORIES:Kinderfeuerwehr
END:VEVENT
END:VCALENDAR